BEGIN:VCALENDAR
VERSION:2.0
PRODID:-//La maison de la cosmethique - ECPv6.15.20//NONSGML v1.0//EN
CALSCALE:GREGORIAN
METHOD:PUBLISH
X-ORIGINAL-URL:https://lamaisondelacosmethique.com
X-WR-CALDESC:Évènements pour La maison de la cosmethique
REFRESH-INTERVAL;VALUE=DURATION:PT1H
X-Robots-Tag:noindex
X-PUBLISHED-TTL:PT1H
BEGIN:VTIMEZONE
TZID:UTC
BEGIN:STANDARD
TZOFFSETFROM:+0000
TZOFFSETTO:+0000
TZNAME:UTC
DTSTART:20240101T000000
END:STANDARD
END:VTIMEZONE
BEGIN:VTIMEZONE
TZID:Europe/Paris
BEGIN:DAYLIGHT
TZOFFSETFROM:+0100
TZOFFSETTO:+0200
TZNAME:CEST
DTSTART:20180325T010000
END:DAYLIGHT
BEGIN:STANDARD
TZOFFSETFROM:+0200
TZOFFSETTO:+0100
TZNAME:CET
DTSTART:20181028T010000
END:STANDARD
BEGIN:DAYLIGHT
TZOFFSETFROM:+0100
TZOFFSETTO:+0200
TZNAME:CEST
DTSTART:20190331T010000
END:DAYLIGHT
BEGIN:STANDARD
TZOFFSETFROM:+0200
TZOFFSETTO:+0100
TZNAME:CET
DTSTART:20191027T010000
END:STANDARD
BEGIN:DAYLIGHT
TZOFFSETFROM:+0100
TZOFFSETTO:+0200
TZNAME:CEST
DTSTART:20200329T010000
END:DAYLIGHT
BEGIN:STANDARD
TZOFFSETFROM:+0200
TZOFFSETTO:+0100
TZNAME:CET
DTSTART:20201025T010000
END:STANDARD
BEGIN:DAYLIGHT
TZOFFSETFROM:+0100
TZOFFSETTO:+0200
TZNAME:CEST
DTSTART:20210328T010000
END:DAYLIGHT
BEGIN:STANDARD
TZOFFSETFROM:+0200
TZOFFSETTO:+0100
TZNAME:CET
DTSTART:20211031T010000
END:STANDARD
BEGIN:DAYLIGHT
TZOFFSETFROM:+0100
TZOFFSETTO:+0200
TZNAME:CEST
DTSTART:20220327T010000
END:DAYLIGHT
BEGIN:STANDARD
TZOFFSETFROM:+0200
TZOFFSETTO:+0100
TZNAME:CET
DTSTART:20221030T010000
END:STANDARD
END:VTIMEZONE
BEGIN:VTIMEZONE
TZID:UTC
BEGIN:STANDARD
TZOFFSETFROM:+0000
TZOFFSETTO:+0000
TZNAME:UTC
DTSTART:20190101T000000
END:STANDARD
END:VTIMEZONE
BEGIN:VEVENT
DTSTART;TZID=UTC:20251004T140000
DTEND;TZID=UTC:20251004T170000
DTSTAMP:20260420T164246
CREATED:20250929T140948Z
LAST-MODIFIED:20250929T141404Z
UID:38216-1759586400-1759597200@lamaisondelacosmethique.com
SUMMARY:Club Entreprendre au féminin 
DESCRIPTION:Samedi 4 octobre\, de 14h à 17h\, sur place  \nParticipez à la séance du club organisée par ACCEESS et la Maison de la Cosmétique\, un moment d’échange dédié aux femmes qui souhaitent\, d’une part\, structurer leurs projets\, et d’autre part\, les développer. \nPar ailleurs\, venez vous inspirer\, rencontrer des entrepreneures et ainsi découvrir les opportunités de création d’entreprise. \nCet atelier s’adresse à un public exclusivement féminin ! \nAccès gratuit sur inscription\nDécouvrez ici notre sélection documentaire « Carrières au féminin »
URL:https://lamaisondelacosmethique.com/event/club-entreprendre-au-feminin/
LOCATION:Cité des métiers\, 30 avenue Corentin Cariou\, Paris\, 75019\, France
CATEGORIES:Entrepreneurs,Événementiel
ATTACH;FMTTYPE=image/jpeg:https://lamaisondelacosmethique.com/wp-content/uploads/2025/09/1000036336.jpg
END:VEVENT
BEGIN:VEVENT
DTSTART;TZID=UTC:20250430T000000
DTEND;TZID=UTC:20250511T235959
DTSTAMP:20260420T164246
CREATED:20250507T160613Z
LAST-MODIFIED:20250507T160613Z
UID:35454-1745971200-1747007999@lamaisondelacosmethique.com
SUMMARY:Foire de Paris 2025
DESCRIPTION:Agir pour la promotion de la cosmétique naturelle\, la rendre accessible à tous\, à travers des actions de sensibilisation et le soutien à l’entrepreneuriat. \nNous travaillons toujours pour des événements riches en échanges\, apprentissages et connexions. \nC’est la volonté de la Maison de la Cosméthique qui conjugue cosmétique et éthique au quotidien ! \nRetrouvez-nous au Hall 4 – Richesses du monde / Carré beauté sur le stand 4D101 avec nos 9 marques participantes !
URL:https://lamaisondelacosmethique.com/event/foire-de-paris-2025/
LOCATION:Paris Expo porte de Versailles\, 1 Pl. de la Prte de Versailles\, Paris\, 75015\, France
CATEGORIES:Événementiel,salons
ATTACH;FMTTYPE=image/png:https://lamaisondelacosmethique.com/wp-content/uploads/2025/04/MediaKit_FoireDeParis25-carre_rs_logo_stand-OK.png
END:VEVENT
BEGIN:VEVENT
DTSTART;TZID=Europe/Paris:20210619T093000
DTEND;TZID=Europe/Paris:20210629T120000
DTSTAMP:20260420T164246
CREATED:20210531T123259Z
LAST-MODIFIED:20250507T155535Z
UID:26934-1624095000-1624968000@lamaisondelacosmethique.com
SUMMARY:Master Class: Formulation & Vente de Cosmétiques
DESCRIPTION:Formuler & vendre des cosmétiques pour peaux noires\, mates & métissées\n\n\n\nFormation en distanciel\, dans le confort de chez vous \n\n\n\nVous avez raté la première Master Class Formuler et Vendre des produits cosmétiques pour peaux noires\, mates et métissés du 13 mai 2021 ? \n\n\n\nLa Maison de la CosmÉthique a décidé de rajouter une date de plus pour la Masterclass et de nouvelles dates pour les coachings individuels qui ont eu énormément de succès ! \n\n\n\nVenez aborder les fondamentaux de la formulation lors de la deuxième Master Class d’Olivia Paul le 19 juin 2021\, afin de créer et développer votre marque à succès sur ce marché dynamique. \n\n\n\n\nJE M’INSCRIS À LA MASTER CLASS \n\n\n\n\n 
URL:https://lamaisondelacosmethique.com/event/master-class-formulation-vente-de-cosmetiques-2/
CATEGORIES:Masterclass
ATTACH;FMTTYPE=image/jpeg:https://lamaisondelacosmethique.com/wp-content/uploads/2025/05/cadre-de-cosmetiques-naturels1-scaled.jpg
END:VEVENT
BEGIN:VEVENT
DTSTART;TZID=UTC:20200916T090000
DTEND;TZID=UTC:20200916T090000
DTSTAMP:20260420T164246
CREATED:20200630T175623Z
LAST-MODIFIED:20250507T160124Z
UID:6281-1600246800-1600246800@lamaisondelacosmethique.com
SUMMARY:I Feel Good
DESCRIPTION:ÊTES-VOUS PRÊT À CHANGER LE MONDE ?\n\n\n\nI FEEL GOOD\, le salon international dédié au bien-être\, au développement durable\, à la Green & Clean beauty !\n\n\n\n \n\n\n\nI FEEL GOOD : LMCE est partenaire de cet événement inédit\, le salon international dédié au bien-être\, au développement durable\, à la Green & Clean beauty !  \n\n\n\nRetrouvons-nous sur le stand 305 et sur 2 temps forts Conférences : Envie et passion  \n\n\n\n\nEst-ce suffisant pour lancer sa marque de cosmétique naturel pour réussir ?\nWorkshop :  Cosméthique en Cuisine\n\n\n\n\n  \n\n\n\n\nConsultez le programme ici\n\n\n\n\n \n\n\n\n 
URL:https://lamaisondelacosmethique.com/event/i-feel-good/
CATEGORIES:Événementiel,salons
ATTACH;FMTTYPE=image/jpeg:https://lamaisondelacosmethique.com/wp-content/uploads/2020/06/1f_o-UFM_400x400.jpg
END:VEVENT
BEGIN:VEVENT
DTSTART;TZID=UTC:20200718T090000
DTEND;TZID=UTC:20200718T170000
DTSTAMP:20260420T164246
CREATED:20200603T165429Z
LAST-MODIFIED:20200603T165429Z
UID:4685-1595062800-1595091600@lamaisondelacosmethique.com
SUMMARY:Les fondamentaux de la cosmétique
DESCRIPTION:Les fondamentaux de la cosmétique 10 jours \n\n\n\nProfitez de l’été pour faire avancer votre projet ! \n\n\n\nLa Maison de la CosmÉthique est ravie de vous proposer une nouvelle session de formation. \n\n\n\nLes points forts de la formation avec LMCE : \n\n\n\n \n\n\n\nEn plein Paris\, proche gare de l’Est/gare du Nord ou bien 100 % à distance !Un formateur / expert reconnu un programme de qualité\, des livrablesdes cours théoriques\, des évaluations et travaux pratiquesun groupe de travail de taille réduite permettant de travailler dans de bonnes conditions et d’interagir entre participantsune attestation de participation en fin de parcoursune intégration au groupe / réseau d’adhérents-pro La Maison de la CosmÉthique
URL:https://lamaisondelacosmethique.com/event/les-fondamentaux-de-la-cosmetique/
CATEGORIES:Formations
ATTACH;FMTTYPE=image/png:https://lamaisondelacosmethique.com/wp-content/uploads/2020/06/IMG-20200608-WA0001formation-e1593692365323.png
END:VEVENT
BEGIN:VEVENT
DTSTART;TZID=UTC:20200716T120000
DTEND;TZID=UTC:20200716T120000
DTSTAMP:20260420T164246
CREATED:20200707T144538Z
LAST-MODIFIED:20200707T144538Z
UID:6524-1594900800-1594900800@lamaisondelacosmethique.com
SUMMARY:Créer son produit et son laboratoire c'est possible !
DESCRIPTION:Créer son produit et son laboratoire c’est possible ! avec Joséphine MBUYI \n\n\n\n\nJe participe
URL:https://lamaisondelacosmethique.com/event/creer-son-produit-et-son-laboratoire-cest-possible/
END:VEVENT
BEGIN:VEVENT
DTSTART;TZID=UTC:20200709T120000
DTEND;TZID=UTC:20200709T130000
DTSTAMP:20260420T164246
CREATED:20200707T134911Z
LAST-MODIFIED:20200707T134911Z
UID:6504-1594296000-1594299600@lamaisondelacosmethique.com
SUMMARY:Seriez-vous la prochaine DNVB* à faire le buzz ?
DESCRIPTION:DNVB : Les surdouées du commerce digital (digitally natives vertical brands) \n\n\n\nJeune marque cosmétique ! Seriez-vous la prochaine SNVB à faire le buzz ? \n\n\n\n\nJe participe
URL:https://lamaisondelacosmethique.com/event/seriez-vous-la-prochaine-dnvb-a-faire-le-buzz/
END:VEVENT
BEGIN:VEVENT
DTSTART;TZID=UTC:20200702T120000
DTEND;TZID=UTC:20200702T120000
DTSTAMP:20260420T164246
CREATED:20200623T234837Z
LAST-MODIFIED:20200623T234837Z
UID:5981-1593691200-1593691200@lamaisondelacosmethique.com
SUMMARY:Pause Cosméto !
DESCRIPTION:Le B.A.BA de la création d’une marque cosmétique \n\n\n\nLa Maison de la CosmÉthique vous invite pour 1 nouveau temps fort original\, version post confinement : un programme de masterclass d’exception\, en ligne\, concocté spécialement pour vous\, autour de la cosmétique ! \n\n\n\nRendez-vous durant 5 jeudis\, de 12 à 13 heures pour PAUSE COSMETO ! \n\n\n\nLes prochains sujets ? \n\n\n\nCréation de marque\,packaging\,laboratoire\,digital\,marketing\, …\n\n\n\nPAUSE COSMETO a  vocation à devenir LA RENCONTRE DE HAUT VOL avec des experts.  \n\n\n\nUn cadre parfait pour nourrir votre réflexion\, booster votre business : \n\n\n\n1 heure de cours spécialisé et d’échanges avec cet expert pour apprendre\, poser vos questions\, vous perfectionner\, vous projeter\, …1 heure à consacrer à vous et à votre projet ou business\n\n\n\nTout cela depuis chez vous\, votre bureau\, le parc ou le resto du coin… \n\n\n\nRendez-vous le 2 juillet 2020 pour la 1ère Pause Cosmeto avec Emmanuelle Dumas ! \n\n\n\n\n\n\nJe réserve ma place
URL:https://lamaisondelacosmethique.com/event/pause-cosmeto/
END:VEVENT
BEGIN:VEVENT
DTSTART;TZID=UTC:20200627T140000
DTEND;TZID=UTC:20200627T140000
DTSTAMP:20260420T164246
CREATED:20200621T014700Z
LAST-MODIFIED:20200621T014700Z
UID:5833-1593266400-1593266400@lamaisondelacosmethique.com
SUMMARY:Club Cosm'Éthiques
DESCRIPTION:Club Cosm’Éthiques – Paris\n\n\n\nAstou et Ndioba ont lancé Léo et Naïa\, une marque de produits de soins pour bébés\, répondant aux spécificités de la peau noire et métissée. \n\n\n\nComment réussir le lancement de son projet\, quelles sont les étapes nécessaires\, où trouver l’information juste dans un secteur réglementé… ? Ce sont des questions auxquelles N’dioba tentera de répondre samedi 27 juin lors de notre rencontre en ligne. \n\n\n\nLe samedi 27 juin 2020 à 14 h\, retrouvons-nous avec N’dioba qui nous parlera de son beau parcours entrepreneurial ! \n\n\n\nUne fois inscrit\, nous vous adresserons le lien ZoomNombre de places : limité à 25 personnes \n\n\n\n\nJe participe
URL:https://lamaisondelacosmethique.com/event/club-cosmethique-3/
ATTACH;FMTTYPE=image/png:https://lamaisondelacosmethique.com/wp-content/uploads/2020/06/cc-27-06-2020-e1593692303344.png
END:VEVENT
BEGIN:VEVENT
DTSTART;TZID=UTC:20200613T140000
DTEND;TZID=UTC:20200613T160000
DTSTAMP:20260420T164246
CREATED:20200605T165430Z
LAST-MODIFIED:20200605T165430Z
UID:4774-1592056800-1592064000@lamaisondelacosmethique.com
SUMMARY:Club CosmÉthiques
DESCRIPTION:Le confinement nous a tous surpris dans notre organisation\, mais il nous a aussi permis de comprendre que d’autres belles opportunités s’offrent à nous. \n\n\n\nDurant cette période exceptionnelle de confinement\, nous nous sommes lancées dans l’aventure du « Café Savon »\, une rencontre hebdomadaire en vue d’aider les porteurs de projet et entrepreneurs à continuer de travailler sur leur projet ou le développement de leur entreprise. \n\n\n\nCette rencontre par visioconférence a plu\, et pour preuve plus de 300 participants ont assisté au Café Savon. \n\n\n\nC’est avec joie que nous souhaitons renouveler l’expérience\, en attendant que la réouverture de la Cité des Métiers\, des rendez-vous par visioconférence du Club Cosm’Ethiques. \n\n\n\nEt quoi de mieux que de démarrer par un sujet crucial pour tout entrepreneur : LE FINANCEMENT. \n\n\n\nSamedi 13 juin\, nous accueillerons Catherine LAM\, fondatrice de LOESIA\, https://www.loesia.fr/ marque de maquillage biologique et naturel fabriqué en France. Elle évoquera son parcours et nous donnera des conseils sur comment obtenir un prêt d’honneur. \n\n\n\nLa session durera 1 h 15 avec 30 min de questions/réponses. Seules 25 personnes pourront y assister pour permettre de bons échanges. \n\n\n\n\nJe participe
URL:https://lamaisondelacosmethique.com/event/club-cosmethique-2/
CATEGORIES:Club Cosméthique
END:VEVENT
BEGIN:VEVENT
DTSTART;TZID=UTC:20200521T093000
DTEND;TZID=UTC:20200521T100000
DTSTAMP:20260420T164246
CREATED:20200515T232420Z
LAST-MODIFIED:20200515T232420Z
UID:4481-1590053400-1590055200@lamaisondelacosmethique.com
SUMMARY:Café savon
DESCRIPTION:8 questions à vous poser pour avoir un site internet professionnel
URL:https://lamaisondelacosmethique.com/event/cafe-savon/
CATEGORIES:Café savon
ATTACH;FMTTYPE=:
END:VEVENT
BEGIN:VEVENT
DTSTART;TZID=UTC:20200514T090000
DTEND;TZID=UTC:20200514T090000
DTSTAMP:20260420T164246
CREATED:20200523T013140Z
LAST-MODIFIED:20200523T013140Z
UID:4611-1589446800-1589446800@lamaisondelacosmethique.com
SUMMARY:Comment acquérir nos 10 premiers clients ?
DESCRIPTION:
URL:https://lamaisondelacosmethique.com/event/comment-acquerir-nos-10-premiers-clients/
END:VEVENT
BEGIN:VEVENT
DTSTART;TZID=Europe/Paris:20200321T140000
DTEND;TZID=Europe/Paris:20200321T173000
DTSTAMP:20260420T164246
CREATED:20200312T013015Z
LAST-MODIFIED:20200312T013015Z
UID:4084-1584799200-1584811800@lamaisondelacosmethique.com
SUMMARY:CLUB COSM'ÉTIQUES
DESCRIPTION:CLUB COSM’ETHIQUES 21/03/2020 \n\n\n\n\n\n\n\nBienvenue à tous ! \n\n\n\nAprès une immersion\, le mois passé\, dans l’univers du test consommateurs\, nous vous proposons de vous donner des clés pour bien choisir votre laboratoire.C’est aussi une étape incontournable lorsque l’on choisit entre autre de lancer sa gamme de produits cosmétiques. \n\n\n\nLe Club Cosm’Ethiques – Paris recevra le samedi 21 Mars à la Cité des métiers Paris\, Carole-Anne Pelletier\, Responsable commercial pour le laboratoire Shadeline. \n\n\n\nles modalités d’accès à la cité des métiers ont changés du fait des actualités récentes. L’accès se fait dorénavant depuis les portes Ouest (via la bibliothèque jeunesse) et Sud (du côté de la Géode); c’est normalement indiqué. \n\n\n\nAdresse : Cité des sciences et de l’industrie – 30\, avenue Corentin-Cariou – 75019 Paris.Cité des Métiers  de 14h à 18h en salle EF2Contact : Odile ANO 07 56 94 35 50Oui. Je souhaite prendre part au Club Cosm’Ethiques\n\n \n\n\n\n     je m’INSCRIS
URL:https://lamaisondelacosmethique.com/event/club-cosmetiques/
CATEGORIES:Club Cosméthique
END:VEVENT
BEGIN:VEVENT
DTSTART;TZID=Europe/Paris:20200314T140000
DTEND;TZID=Europe/Paris:20200314T140000
DTSTAMP:20260420T164246
CREATED:20200312T120824Z
LAST-MODIFIED:20200312T120824Z
UID:4087-1584194400-1584194400@lamaisondelacosmethique.com
SUMMARY:Fabriquez votre crème hydratante
DESCRIPTION:Fabriquez vous-même votre soin visage avec des eaux et des huiles végétales 100% naturelles. Un soin idéal pour les peaux en manque d’hydratation\, de souplesse et d’éclat. Votre peau en redemandera !  \n\n\n\n🔹 30€ par personne 🔹 25€ pour les abonnés FaciliCiti \n\n\n\nAtelier réalisé par La Maison de la CosmEthique – LMCE \n\n\n\n\n\n\n\n\n\n\n\nJe m’INSCRIS
URL:https://lamaisondelacosmethique.com/event/fabriquez-votre-creme-hydratante/
CATEGORIES:Ateliers cosmétiques
END:VEVENT
BEGIN:VEVENT
DTSTART;TZID=Europe/Paris:20200314T140000
DTEND;TZID=Europe/Paris:20200314T140000
DTSTAMP:20260420T164246
CREATED:20200312T010357Z
LAST-MODIFIED:20200312T010357Z
UID:4088-1584194400-1584194400@lamaisondelacosmethique.com
SUMMARY:Fabriquez votre crème hydratante 100% naturelle
DESCRIPTION:Fabriquez vous-même votre soin visage avec des eaux et des huiles végétales 100% naturelles. Un soin idéal pour les peaux en manque d’hydratation\, de souplesse et d’éclat. Votre peau en redemandera !  \n\n\n\nPour plus de détail cliquez sur le lien en bas de page  \n\n\n\n\n\n\n\n\n\n     je m’INSCRIS
URL:https://lamaisondelacosmethique.com/event/fabriquez-votre-creme-hydratante-100-naturelle/
CATEGORIES:Ateliers cosmétiques
END:VEVENT
BEGIN:VEVENT
DTSTART;TZID=Europe/Paris:20200310T180000
DTEND;TZID=Europe/Paris:20200310T180000
DTSTAMP:20260420T164246
CREATED:20200305T214917Z
LAST-MODIFIED:20200305T214917Z
UID:4078-1583863200-1583863200@lamaisondelacosmethique.com
SUMMARY:Fabriquez votre eau de parfum
DESCRIPTION:
URL:https://lamaisondelacosmethique.com/event/fabriquez-votre-eau-de-parfum/
CATEGORIES:Ateliers cosmétiques
END:VEVENT
BEGIN:VEVENT
DTSTART;TZID=Europe/Paris:20191213T000000
DTEND;TZID=Europe/Paris:20191215T235959
DTSTAMP:20260420T164246
CREATED:20191207T233934Z
LAST-MODIFIED:20191207T233934Z
UID:2402-1576195200-1576454399@lamaisondelacosmethique.com
SUMMARY:Marché de Noël aux Canaux
DESCRIPTION:A l’occasion du Marché de  Noël\, éthique & solidaire\, retrouvez nous aux  Terrasses des  Canaux\, 6 Quai de Seine 75019 Paris\, du 13 au 15 décembre de 11 h à  21 h
URL:https://lamaisondelacosmethique.com/event/marche-de-noel-aux-canaux/
END:VEVENT
BEGIN:VEVENT
DTSTART;TZID=Europe/Paris:20191205T000000
DTEND;TZID=Europe/Paris:20191205T010000
DTSTAMP:20260420T164246
CREATED:20191025T232808Z
LAST-MODIFIED:20191025T232808Z
UID:1211-1575504000-1575507600@lamaisondelacosmethique.com
SUMMARY:MARCHÉ D'HIVER VIA LE MONDE
DESCRIPTION:Le Marché d’hiver est né en Seine-Saint-Denis en 2004 pour promouvoir des acteurs et\nactrices du commerce équitable et de la solidarité internationale. Cet événement est\nporté par Via le monde\, structure créée par le Département de la Seine-Saint-Denis en\n2001 au service de tous les acteurs de l’éducation au développement\, à la citoyenneté et\nà la solidarité internationale.\nDepuis 2017\, Via le monde et la délégation du « In Seine-Saint-Denis » s’associent pour\npromouvoir un modèle économique alternatif\, une production locale\, solidaire et\nrespectueuse avec les acteurs du territoire.\nLe Marché d’hiver\, alternatif et durable\, est ainsi devenu un lieu de rassemblement des\nstructures du commerce équitable mais aussi des circuits courts de consommation\, de\nl’insertion par l’activité économique\, de la création artistique et alimentaire\, de\nl’agriculture locale paysanne et bio\, de la solidarité internationale\, du tourisme solidaire\,\ndu réemploi\, de l’innovation sociale…\nL’ambition est de représenter l’ensemble des dimensions de la consommation durable et\nresponsable.\nPour la deuxième année consécutive\, la Maison de la Cosméthique participe à\nl’événement en tant que collectif d’entrepreneurs.es de produits cosmétiques naturels.\nVenez rencontrer les marques qui vous font du bien ! \n\n\n\nMonargan Ka.ji.ji Naturafrica Ateliers Haniarom \n\n\n\n Les dates/lieu : le Marché d’hiver aura lieu les jeudi 5 et vendredi 6 décembre 2019\, de 11h à 16h Entrée libre Immeuble Papillon – RDC – 225\, avenue Paul Vaillant Couturier 93000 Bobigny Contact : lmceparis@gmail.com \n\n\n\nMarché d’Hiver équitable et solidaire de Via le monde
URL:https://lamaisondelacosmethique.com/event/marche-dhiver-via-le-monde/
END:VEVENT
BEGIN:VEVENT
DTSTART;TZID=Europe/Paris:20191130T000000
DTEND;TZID=Europe/Paris:20191130T010000
DTSTAMP:20260420T164246
CREATED:20191025T231523Z
LAST-MODIFIED:20191025T231523Z
UID:1258-1575072000-1575075600@lamaisondelacosmethique.com
SUMMARY:START COSM’ÉTHIQUE
DESCRIPTION:Venez nous soutenir pour ce premier lancement de « Start Cosm’Éthique » ! Start Cosm’Éthique » est un rendez-vous annuel dans le cadre de la semaine de l’Economie Sociale et Solidaire porté par la Maison de la Cosméthique (LMCE). La Maison de la Cosméthique est une association qui promeut la cosmétique naturelle\, biologique et éthique à travers le soutien\, l’accompagnement et la formation d’entrepreneurs.es du secteur. L’association propose également des actions de sensibilisation à la cosmétique naturelle\, pour tout type de public\, à travers des formats ludiques. \n\n\n\nCette année\, elle a souhaité combiner accompagnement professionnel et plaidoyer dans un même événement réunissant des professionnels de la cosmétique\, des consommateurs\, des étudiants\, des porteurs de projet et des entrepreneurs.es de toutsecteur en vue de réfléchir aux enjeux d’une cosmétique responsable. Le pari de « Start Cosm’Éthique » ? Impulser une prise de conscience citoyenne pour inciter à agir pour une consommation responsable et durable dans le secteur de la cosmétique. \n\n\n\nSoutenu par la Ville de Paris\, La Cité des Métiers de Paris et l’association GRDR\, ce premier rendez-vous annuel propose un challenge collectif : Hack’Ta Cosm’Éthique ainsi que des conférences/débats et des ateliers pratiques. « Start Cosm’Éthique » bénéficie également du soutien de partenaires de l’économie sociale et solidaire et de médias spécialisés. Cette première édition aura lieu du samedi 30 Novembre au dimanche 1 er Décembre 2019\, à la Cité des Métiers\, à Paris. \n\n\n\nRESERVATIONS ICI
URL:https://lamaisondelacosmethique.com/event/start-cosmethique-2019/
ATTACH;FMTTYPE=image/png:https://lamaisondelacosmethique.com/wp-content/uploads/2019/10/Banniere-start-cosmethique.png
END:VEVENT
BEGIN:VEVENT
DTSTART;TZID=Europe/Paris:20191116T000000
DTEND;TZID=Europe/Paris:20191116T010000
DTSTAMP:20260420T164246
CREATED:20191026T211729Z
LAST-MODIFIED:20191026T211729Z
UID:1209-1573862400-1573866000@lamaisondelacosmethique.com
SUMMARY:CLUB COSM'ÉTHIQUES
DESCRIPTION:Le club Cosm’Ethiques est une instance soutenue par la Mairie de Paris\, qui réunit les porteurs de projet et entrepreneurs du secteur de la cosmétique naturelle à la cité des métiers\, une fois par mois. Ce Club Cosm’Ethiques est un des nombreux clubs proposés par la Cité des Métiers de Paris et ses partenaires dans le pôle « Créer Son Activité » (CSA). Il a pour objectif de réunir les personnes intéressées par les métiers de la cosmétique et du bien-être\, avec une forte orientation sur les produits naturels. Vous êtes en recherche de réponses et solutions métiers et techniques\, comme la réglementation\, les obligations sanitaires\, les contraintes d’un fournisseur de matières premières biologique ou de retours d’expériences de chefs d’entreprise ? Venez participer à nos prochaines sessions. \n\n\n\n Adresse : Cité des Métiers (Niveau -1 de la Cité des sciences et de l’industrie – 30\, avenue Corentin- Cariou – 75019 Paris. Horaire : de 14h à 18h \n\n\n\n RESERVATION ICI
URL:https://lamaisondelacosmethique.com/event/club-cosmethiques/
ATTACH;FMTTYPE=:
END:VEVENT
BEGIN:VEVENT
DTSTART;TZID=Europe/Paris:20191020T000000
DTEND;TZID=Europe/Paris:20191020T010000
DTSTAMP:20260420T164246
CREATED:20191024T230518Z
LAST-MODIFIED:20191024T230518Z
UID:1190-1571529600-1571533200@lamaisondelacosmethique.com
SUMMARY:Natexpo
DESCRIPTION:Natexpo\, le salon international des produits biologiques est l’événement qui dessine la bio de demain  \n\n\n\nTout le business de la bio à Natexpo. Seule plateforme de business pour l’ensemble des acteurs du marché\, Natexpo s’engage à répondre au plus près aux attentes des professionnels.  \n\n\n\nLien vers l’événement ICI
URL:https://lamaisondelacosmethique.com/event/natexpo/
CATEGORIES:salons
ATTACH;FMTTYPE=image/jpeg:https://lamaisondelacosmethique.com/wp-content/uploads/2019/10/natexpo-2019-logo.jpg
END:VEVENT
BEGIN:VEVENT
DTSTART;TZID=Europe/Paris:20191016T090000
DTEND;TZID=Europe/Paris:20191016T100000
DTSTAMP:20260420T164246
CREATED:20191024T195840Z
LAST-MODIFIED:20191024T195840Z
UID:1149-1571216400-1571220000@lamaisondelacosmethique.com
SUMMARY:Cosmetic 360
DESCRIPTION:COSMETIC 360\, Le salon international de l’innovation pour la filière parfumerie-cosmétique\, au carrousel du Louvre de Paris\, le 16 et 17 octobre 2019 \n\n\n\nLien de l’événement ICI
URL:https://lamaisondelacosmethique.com/event/cosmetic-360/
ATTACH;FMTTYPE=image/jpeg:https://lamaisondelacosmethique.com/wp-content/uploads/2019/10/cosmetic-360.jpg
END:VEVENT
BEGIN:VEVENT
DTSTART;TZID=Europe/Paris:20190710T080000
DTEND;TZID=Europe/Paris:20190902T170000
DTSTAMP:20260420T164246
CREATED:20190806T132247Z
LAST-MODIFIED:20190806T132247Z
UID:402-1562745600-1567443600@lamaisondelacosmethique.com
SUMMARY:La terasse des canaux
DESCRIPTION:Nous serons parmi les plus de 150 associations et entreprises sociales qui inventent la Ville de Demain et qui seront présentes du 10 juillet au 2 septembre \nRetrouvez le programme complet de l’événement sur le site Les Canaux\, Maison des économies solidaires et innovantes
URL:https://lamaisondelacosmethique.com/event/la-terasse-des-canaux/
END:VEVENT
END:VCALENDAR